BEGIN:VCALENDAR
VERSION:2.0
PRODID:-//wp-events-plugin.com//7.2.3.1//EN
BEGIN:VEVENT
UID:26@wbahq.org
DTSTART;TZID=America/Los_Angeles:20260217T150000
DTEND;TZID=America/Los_Angeles:20260217T163000
DTSTAMP:20260118T034349Z
URL:https://www.wbahq.org/events/lunarnewyearenglish/
SUMMARY:2026 Lunar New Year Prayer
DESCRIPTION:\n2026 Lunar New Year Prayer\n2/17/2026  3 PM Prayer Ceremony\
 n\n2/17 – 2/21  10:30 AM – 5 PM All are welcome to pay respects and m
 ake offering to the Buddhas\n\n3/3/2026  10 AM Chanting the Chapter of Un
 iversal Gateway of Bodhisattva Avalokiteshvara in the Lotus Sutra\n\nPhone
 : 626-797-1590\n\nAddress: Holy Miracles Temple\n\n1730 N. Raymond Ave.\, 
 Pasadena\, CA 91103\n\nEmail: holymiraclestemple@gmail.com\n\n
ATTACH;FMTTYPE=image/jpeg:https://www.wbahq.org/wp-content/uploads/2026/01
 /2026年-新春祈福.png
CATEGORIES:Dharma Assembly
END:VEVENT
BEGIN:VTIMEZONE
TZID:America/Los_Angeles
X-LIC-LOCATION:America/Los_Angeles
BEGIN:STANDARD
DTSTART:20251102T010000
TZOFFSETFROM:-0700
TZOFFSETTO:-0800
TZNAME:PST
END:STANDARD
END:VTIMEZONE
END:VCALENDAR