BEGIN:VCALENDAR
VERSION:2.0
PRODID:-//wp-events-plugin.com//7.2.3.1//EN
BEGIN:VEVENT
UID:33@wbahq.org
DTSTART;TZID=America/Los_Angeles:20260217T150000
DTEND;TZID=America/Los_Angeles:20260217T163000
DTSTAMP:20260118T034304Z
URL:https://www.wbahq.org/ch/events/lunarnewyear/
SUMMARY:2026 新春祈福
DESCRIPTION:English Please Click Here\n\n2026 新春祈福\n2/17/2026（大
 年初一）下午3:00  祈福儀式\n\n2/17 – 2/21（初一至初五
 ）上午10:30 – 下午5:00 歡迎來寺禮佛及上供\n\n3/3/2026（
 正月十五）上午10:00  恭誦《觀世音菩薩普門品》\n\n電
 話：626-797-1590\n\n聖蹟寺地址：1730 North Raymond Ave.\, Pasadena
 \, CA 91103\n\n報名郵箱：holymiraclestemple@gmail.com
ATTACH;FMTTYPE=image/jpeg:https://www.wbahq.org/ch/wp-content/uploads/2026
 /01/2026年-新春祈福-e1770258809765.png
END:VEVENT
BEGIN:VTIMEZONE
TZID:America/Los_Angeles
X-LIC-LOCATION:America/Los_Angeles
BEGIN:STANDARD
DTSTART:20251102T010000
TZOFFSETFROM:-0700
TZOFFSETTO:-0800
TZNAME:PST
END:STANDARD
END:VTIMEZONE
END:VCALENDAR